BEGIN:VCALENDAR
VERSION:2.0
PRODID:spatie/icalendar-generator
DESCRIPTION:Évènements de Association des propriétaires du Lac Sept-Île
 s
X-WR-CALDESC:Évènements de Association des propriétaires du Lac Sept-Îl
 es
REFRESH-INTERVAL;VALUE=DURATION:PT1440M
X-PUBLISHED-TTL:PT1440M
BEGIN:VTIMEZONE
TZID:America/Toronto
BEGIN:DAYLIGHT
DTSTART:20240310T020000Z
TZOFFSETFROM:-0500
TZOFFSETTO:-0400
END:DAYLIGHT
BEGIN:STANDARD
DTSTART:20241103T020000Z
TZOFFSETFROM:-0400
TZOFFSETTO:-0500
END:STANDARD
BEGIN:DAYLIGHT
DTSTART:20250309T020000Z
TZOFFSETFROM:-0500
TZOFFSETTO:-0400
END:DAYLIGHT
END:VTIMEZONE
BEGIN:VTIMEZONE
TZID:UTC
BEGIN:STANDARD
DTSTART:20250725T141505Z
TZOFFSETFROM:+0000
TZOFFSETTO:+0000
END:STANDARD
END:VTIMEZONE
BEGIN:VEVENT
UID:206-57
DTSTAMP:20260421T141505Z
SUMMARY:Club de lecture
LOCATION:
ORGANIZER;CN=Communication Gmail APLSI:MAILTO:communication.aplsi@gmail.com
RRULE:FREQ=MONTHLY;BYDAY=3TU;UNTIL=20241218T000000Z
DTSTART;TZID=America/Toronto:20241015T133000
DTEND;TZID=America/Toronto:20241015T153000
X-ALT-DESC;FMTTYPE=TEXT/HTML:
CATEGORIES:Activités
URL;VALUE=URI:https://aplsi.com/mc-events/club-de-lecture-2/?mc_id=206
METHOD:PUBLISH
END:VEVENT
END:VCALENDAR