BEGIN:VCALENDAR
VERSION:2.0
PRODID:spatie/icalendar-generator
DESCRIPTION:Évènements de Association des propriétaires du Lac Sept-Île
 s
X-WR-CALDESC:Évènements de Association des propriétaires du Lac Sept-Îl
 es
REFRESH-INTERVAL;VALUE=DURATION:PT1440M
X-PUBLISHED-TTL:PT1440M
BEGIN:VTIMEZONE
TZID:America/Toronto
BEGIN:STANDARD
DTSTART:20231105T020000Z
TZOFFSETFROM:-0400
TZOFFSETTO:-0500
END:STANDARD
BEGIN:DAYLIGHT
DTSTART:20240310T020000Z
TZOFFSETFROM:-0500
TZOFFSETTO:-0400
END:DAYLIGHT
END:VTIMEZONE
BEGIN:VTIMEZONE
TZID:UTC
BEGIN:STANDARD
DTSTART:20250724T201737Z
TZOFFSETFROM:+0000
TZOFFSETTO:+0000
END:STANDARD
END:VTIMEZONE
BEGIN:VEVENT
UID:32-6
DTSTAMP:20260420T201737Z
SUMMARY:Club de lecture
LOCATION:Salle du bas 3309 Ch. du Lac-Sept Îles  SAINT RAYMOND Québec G3L
  2S3
ORGANIZER;CN=Communication Gmail APLSI:MAILTO:communication.aplsi@gmail.com
RRULE:FREQ=MONTHLY;BYDAY=3TU;UNTIL=20240522T000000Z
DTSTART;TZID=America/Toronto:20240220T133000
DTEND;TZID=America/Toronto:20240220T153000
X-ALT-DESC;FMTTYPE=TEXT/HTML:
CATEGORIES:Activités
URL;VALUE=URI:https://aplsi.com/mc-events/club-de-lecture/?mc_id=32
METHOD:PUBLISH
END:VEVENT
END:VCALENDAR