BEGIN:VCALENDAR
VERSION:2.0
PRODID:spatie/icalendar-generator
DESCRIPTION:Évènements de Association des propriétaires du Lac Sept-Île
 s
X-WR-CALDESC:Évènements de Association des propriétaires du Lac Sept-Îl
 es
REFRESH-INTERVAL;VALUE=DURATION:PT1440M
X-PUBLISHED-TTL:PT1440M
BEGIN:VTIMEZONE
TZID:America/Toronto
BEGIN:DAYLIGHT
DTSTART:20260308T020000Z
TZOFFSETFROM:-0500
TZOFFSETTO:-0400
END:DAYLIGHT
BEGIN:STANDARD
DTSTART:20261101T020000Z
TZOFFSETFROM:-0400
TZOFFSETTO:-0500
END:STANDARD
END:VTIMEZONE
BEGIN:VTIMEZONE
TZID:UTC
BEGIN:STANDARD
DTSTART:20250725T102801Z
TZOFFSETFROM:+0000
TZOFFSETTO:+0000
END:STANDARD
END:VTIMEZONE
BEGIN:VEVENT
UID:539-123
DTSTAMP:20260421T102801Z
SUMMARY:Bibliothèque
LOCATION:Bibliothèque 3309 Ch. du Lac-Sept-Îles  SAINT RAYMOND Québec G3
 L 2S3
ORGANIZER;CN=Communication Gmail APLSI:MAILTO:communication.aplsi@gmail.com
RRULE:FREQ=WEEKLY;UNTIL=20260830T000000Z
DTSTART;TZID=America/Toronto:20260801T100000
DTEND;TZID=America/Toronto:20260801T120000
X-ALT-DESC;FMTTYPE=TEXT/HTML:Horaire d'été\, bibliothèque ouverte tous l
 es samedis
CATEGORIES:Bibliothèque
URL;VALUE=URI:https://aplsi.com/mc-events/bibliotheque-15/?mc_id=539
METHOD:PUBLISH
END:VEVENT
END:VCALENDAR