BEGIN:VCALENDAR
VERSION:2.0
PRODID:spatie/icalendar-generator
DESCRIPTION:Évènements de Association des propriétaires du Lac Sept-Île
 s
X-WR-CALDESC:Évènements de Association des propriétaires du Lac Sept-Îl
 es
REFRESH-INTERVAL;VALUE=DURATION:PT1440M
X-PUBLISHED-TTL:PT1440M
BEGIN:VTIMEZONE
TZID:America/Toronto
BEGIN:STANDARD
DTSTART:20251102T020000Z
TZOFFSETFROM:-0400
TZOFFSETTO:-0500
END:STANDARD
BEGIN:DAYLIGHT
DTSTART:20260308T020000Z
TZOFFSETFROM:-0500
TZOFFSETTO:-0400
END:DAYLIGHT
BEGIN:STANDARD
DTSTART:20261101T020000Z
TZOFFSETFROM:-0400
TZOFFSETTO:-0500
END:STANDARD
END:VTIMEZONE
BEGIN:VTIMEZONE
TZID:UTC
BEGIN:STANDARD
DTSTART:20250725T114755Z
TZOFFSETFROM:+0000
TZOFFSETTO:+0000
END:STANDARD
END:VTIMEZONE
BEGIN:VEVENT
UID:566-176
DTSTAMP:20260421T114755Z
SUMMARY:Parade de bateaux
LOCATION:
ORGANIZER;CN=Communication APLSI:MAILTO:communication@aplsi.com
DTSTART;TZID=America/Toronto:20260711T200000
DTEND;TZID=America/Toronto:20260711T210000
X-ALT-DESC;FMTTYPE=TEXT/HTML:Vous êtes attendu devant le Club nautique pou
 r le grand départ!
CATEGORIES:Activités
URL;VALUE=URI:https://aplsi.com/mc-events/parade-de-bateaux-2/
METHOD:PUBLISH
END:VEVENT
END:VCALENDAR