BEGIN:VCALENDAR
VERSION:2.0
PRODID:spatie/icalendar-generator
DESCRIPTION:Évènements de Association des propriétaires du Lac Sept-Île
 s
X-WR-CALDESC:Évènements de Association des propriétaires du Lac Sept-Îl
 es
REFRESH-INTERVAL;VALUE=DURATION:PT1440M
X-PUBLISHED-TTL:PT1440M
BEGIN:VTIMEZONE
TZID:America/Toronto
BEGIN:STANDARD
DTSTART:20241103T020000Z
TZOFFSETFROM:-0400
TZOFFSETTO:-0500
END:STANDARD
BEGIN:DAYLIGHT
DTSTART:20250309T020000Z
TZOFFSETFROM:-0500
TZOFFSETTO:-0400
END:DAYLIGHT
END:VTIMEZONE
BEGIN:VTIMEZONE
TZID:UTC
BEGIN:STANDARD
DTSTART:20250725T164811Z
TZOFFSETFROM:+0000
TZOFFSETTO:+0000
END:STANDARD
END:VTIMEZONE
BEGIN:VEVENT
UID:231-63
DTSTAMP:20260421T164811Z
SUMMARY:Place aux jeunes de coeur
LOCATION:
ORGANIZER;CN=Communication APLSI:MAILTO:communication@aplsi.com
RRULE:FREQ=WEEKLY;UNTIL=20241206T000000Z
DTSTART;TZID=America/Toronto:20241205T133000
DTEND;TZID=America/Toronto:20241205T160000
X-ALT-DESC;FMTTYPE=TEXT/HTML:Jeunes de cœur est de retour… Vous cherchez
  un prétexte pour rencontrer vos amis(es)\, au cours de l’automne? Une 
 opportunité s’offre à vous! Le rez de jardin sera ouvert les jeudis p.
 m. à compter du 17 octobre. Venez profiter des jeux ou tout simplement 
 ‘’piquer une jasette’’\, Marcel et Paul vous attendent.
CATEGORIES:Activités
URL;VALUE=URI:https://aplsi.com/mc-events/place-aux-jeunes-de-coeur/?mc_id=
 231
METHOD:PUBLISH
END:VEVENT
END:VCALENDAR