BEGIN:VCALENDAR
VERSION:2.0
PRODID:spatie/icalendar-generator
DESCRIPTION:Évènements de Association des propriétaires du Lac Sept-Île
 s
X-WR-CALDESC:Évènements de Association des propriétaires du Lac Sept-Îl
 es
REFRESH-INTERVAL;VALUE=DURATION:PT1440M
X-PUBLISHED-TTL:PT1440M
BEGIN:VTIMEZONE
TZID:America/Toronto
BEGIN:DAYLIGHT
DTSTART:20240310T020000Z
TZOFFSETFROM:-0500
TZOFFSETTO:-0400
END:DAYLIGHT
BEGIN:STANDARD
DTSTART:20241103T020000Z
TZOFFSETFROM:-0400
TZOFFSETTO:-0500
END:STANDARD
BEGIN:DAYLIGHT
DTSTART:20250309T020000Z
TZOFFSETFROM:-0500
TZOFFSETTO:-0400
END:DAYLIGHT
END:VTIMEZONE
BEGIN:VTIMEZONE
TZID:UTC
BEGIN:STANDARD
DTSTART:20250725T180944Z
TZOFFSETFROM:+0000
TZOFFSETTO:+0000
END:STANDARD
END:VTIMEZONE
BEGIN:VEVENT
UID:233-64
DTSTAMP:20260421T180944Z
SUMMARY:Soirée Halloween
LOCATION:Salle du haut 3309 Ch. du Lac-Sept Îles  SAINT RAYMOND Québec G3
 L 2S3
ORGANIZER;CN=Communication Gmail APLSI:MAILTO:communication.aplsi@gmail.com
DTSTART;TZID=America/Toronto:20241018T193000
DTEND;TZID=America/Toronto:20241018T235900
X-ALT-DESC;FMTTYPE=TEXT/HTML:🎃 La soirée d'Halloween approche : prépar
 ez-vous pour une nuit mémorable au Club Nautique ! 🎃 Le 18 octobre à 
 19h30\, nous organisons une soirée d'Halloween ouverte à tous\, membres 
 et non-membres\, alors venez profiter de cette soirée terrifiante en fami
 lle ou entre amis ! Ce qui vous attend : Une soirée costumée avec des…
CATEGORIES:Activités
URL;VALUE=URI:https://aplsi.com/mc-events/soiree-halloween/
METHOD:PUBLISH
END:VEVENT
END:VCALENDAR